BEGIN:VCALENDAR
PRODID:-//eluceo/ical//2.0/EN
VERSION:2.0
CALSCALE:GREGORIAN
BEGIN:VEVENT
UID:302067cc3ce8424c87fd619fcc9e40cc
DTSTAMP:20260424T090755Z
SUMMARY:Réunion Statutaire
DESCRIPTION:Conférencier(s): Préparation accueil Club de Cologne et Actio
 n Théatre
URL:https://lille-porte-flandres.rotaryd1520.org/fr/agenda/show/38172
DTSTART;TZID=Europe/Zurich:20230920T193000
DTEND;TZID=Europe/Zurich:20230920T233000
LOCATION:Restaurant Le TOSCANO\, 405\, Av de Dunkerque\, 59160 Lomme\, Fran
 ce
CATEGORIES:Rotary
END:VEVENT
BEGIN:VTIMEZONE
TZID:Europe/Zurich
BEGIN:DAYLIGHT
DTSTART:20230920T193000
TZNAME:CEST
TZOFFSETTO:+0200
TZOFFSETFROM:+0200
END:DAYLIGHT
END:VTIMEZONE
END:VCALENDAR
